BEGIN:VCALENDAR
VERSION:2.0
PRODID:-//Frederick Irwin Anglican School - ECPv4.9.10//NONSGML v1.0//EN
CALSCALE:GREGORIAN
METHOD:PUBLISH
X-WR-CALNAME:Frederick Irwin Anglican School
X-ORIGINAL-URL:https://www.frederickirwin.wa.edu.au
X-WR-CALDESC:Events for Frederick Irwin Anglican School
BEGIN:VTIMEZONE
TZID:Asia/Shanghai
BEGIN:STANDARD
TZOFFSETFROM:+0800
TZOFFSETTO:+0800
TZNAME:CST
DTSTART:20200101T000000
END:STANDARD
END:VTIMEZONE
BEGIN:VEVENT
DTSTART;TZID=Asia/Shanghai:20200312T090000
DTEND;TZID=Asia/Shanghai:20200312T100000
DTSTAMP:20200301T173135
CREATED:20200130T034031Z
LAST-MODIFIED:20200218T082358Z
UID:8897-1584003600-1584007200@www.frederickirwin.wa.edu.au
SUMMARY:Community Morning Tea (Meadow Springs Campus)
DESCRIPTION:Dear Parents and Caregivers \nFollowing the success of the Parent Morning Teas in previous years\, you are invited to attend our upcoming Community Morning Tea\, featuring guest speaker Miss Amy O’Brien – Frederick Irwin’s new School Psychologist. \nFor further information\, please see the poster below to view the invitation for Frederick Irwin Meadow Springs and Halls Head Campus families. \nIf you are interested in attending this event\, please RSVP via the link in the email to parents\, by Wednesday 11 March 2020. \nKind regards \nSue Skehan\nHead of Primary – Meadow Springs Campus \nNoah Clark\nHead of Primary – Halls Head Campus \n\n  \n
URL:https://www.frederickirwin.wa.edu.au/event/community-morning-tea-meadow-springs-campus/
CATEGORIES:Halls Head Campus Primary,Meadow Springs Campus Primary
END:VEVENT
END:VCALENDAR